BEGIN:VCALENDAR
VERSION:2.0
PRODID:-//Exeter BSAC - ECPv6.15.20//NONSGML v1.0//EN
CALSCALE:GREGORIAN
METHOD:PUBLISH
X-WR-CALNAME:Exeter BSAC
X-ORIGINAL-URL:https://www.exeterbsac.org
X-WR-CALDESC:Events for Exeter BSAC
REFRESH-INTERVAL;VALUE=DURATION:PT1H
X-Robots-Tag:noindex
X-PUBLISHED-TTL:PT1H
BEGIN:VTIMEZONE
TZID:Europe/London
BEGIN:DAYLIGHT
TZOFFSETFROM:+0000
TZOFFSETTO:+0100
TZNAME:BST
DTSTART:20250330T010000
END:DAYLIGHT
BEGIN:STANDARD
TZOFFSETFROM:+0100
TZOFFSETTO:+0000
TZNAME:GMT
DTSTART:20251026T010000
END:STANDARD
BEGIN:DAYLIGHT
TZOFFSETFROM:+0000
TZOFFSETTO:+0100
TZNAME:BST
DTSTART:20260329T010000
END:DAYLIGHT
BEGIN:STANDARD
TZOFFSETFROM:+0100
TZOFFSETTO:+0000
TZNAME:GMT
DTSTART:20261025T010000
END:STANDARD
BEGIN:DAYLIGHT
TZOFFSETFROM:+0000
TZOFFSETTO:+0100
TZNAME:BST
DTSTART:20270328T010000
END:DAYLIGHT
BEGIN:STANDARD
TZOFFSETFROM:+0100
TZOFFSETTO:+0000
TZNAME:GMT
DTSTART:20271031T010000
END:STANDARD
END:VTIMEZONE
BEGIN:VEVENT
DTSTART;TZID=Europe/London:20260710T200000
DTEND;TZID=Europe/London:20260710T223000
DTSTAMP:20260421T163724
CREATED:20260421T115657Z
LAST-MODIFIED:20260421T115657Z
UID:13294-1783713600-1783722600@www.exeterbsac.org
SUMMARY:🍺 Club night
DESCRIPTION:Come join us at the club house for a drink or a general chitchat about all things scuba!
URL:https://www.exeterbsac.org/event/%f0%9f%8d%ba-club-night-13/
LOCATION:Exeter BSAC club house\, Exe Watersports Association\, 62 Haven Rd\, Exeter\, EX2 8DP
CATEGORIES:Club Night
END:VEVENT
BEGIN:VEVENT
DTSTART;TZID=Europe/London:20260717T200000
DTEND;TZID=Europe/London:20260717T223000
DTSTAMP:20260421T163724
CREATED:20260421T115715Z
LAST-MODIFIED:20260421T115715Z
UID:13296-1784318400-1784327400@www.exeterbsac.org
SUMMARY:🍺 Club night
DESCRIPTION:Come join us at the club house for a drink or a general chitchat about all things scuba!
URL:https://www.exeterbsac.org/event/%f0%9f%8d%ba-club-night-14/
LOCATION:Exeter BSAC club house\, Exe Watersports Association\, 62 Haven Rd\, Exeter\, EX2 8DP
CATEGORIES:Club Night
END:VEVENT
BEGIN:VEVENT
DTSTART;TZID=Europe/London:20260724T200000
DTEND;TZID=Europe/London:20260724T223000
DTSTAMP:20260421T163724
CREATED:20260421T115736Z
LAST-MODIFIED:20260421T115736Z
UID:13298-1784923200-1784932200@www.exeterbsac.org
SUMMARY:🍺 Club night
DESCRIPTION:Come join us at the club house for a drink or a general chitchat about all things scuba!
URL:https://www.exeterbsac.org/event/%f0%9f%8d%ba-club-night-15/
LOCATION:Exeter BSAC club house\, Exe Watersports Association\, 62 Haven Rd\, Exeter\, EX2 8DP
CATEGORIES:Club Night
END:VEVENT
BEGIN:VEVENT
DTSTART;TZID=Europe/London:20260731T200000
DTEND;TZID=Europe/London:20260731T223000
DTSTAMP:20260421T163724
CREATED:20260421T115754Z
LAST-MODIFIED:20260421T115754Z
UID:13300-1785528000-1785537000@www.exeterbsac.org
SUMMARY:🍺 Club night
DESCRIPTION:Come join us at the club house for a drink or a general chitchat about all things scuba!
URL:https://www.exeterbsac.org/event/%f0%9f%8d%ba-club-night-16/
LOCATION:Exeter BSAC club house\, Exe Watersports Association\, 62 Haven Rd\, Exeter\, EX2 8DP
CATEGORIES:Club Night
END:VEVENT
END:VCALENDAR