BEGIN:VCALENDAR
VERSION:2.0
PRODID:-//Exeter BSAC - ECPv6.15.20//NONSGML v1.0//EN
CALSCALE:GREGORIAN
METHOD:PUBLISH
X-WR-CALNAME:Exeter BSAC
X-ORIGINAL-URL:https://www.exeterbsac.org
X-WR-CALDESC:Events for Exeter BSAC
REFRESH-INTERVAL;VALUE=DURATION:PT1H
X-Robots-Tag:noindex
X-PUBLISHED-TTL:PT1H
BEGIN:VTIMEZONE
TZID:Europe/London
BEGIN:DAYLIGHT
TZOFFSETFROM:+0000
TZOFFSETTO:+0100
TZNAME:BST
DTSTART:20250330T010000
END:DAYLIGHT
BEGIN:STANDARD
TZOFFSETFROM:+0100
TZOFFSETTO:+0000
TZNAME:GMT
DTSTART:20251026T010000
END:STANDARD
BEGIN:DAYLIGHT
TZOFFSETFROM:+0000
TZOFFSETTO:+0100
TZNAME:BST
DTSTART:20260329T010000
END:DAYLIGHT
BEGIN:STANDARD
TZOFFSETFROM:+0100
TZOFFSETTO:+0000
TZNAME:GMT
DTSTART:20261025T010000
END:STANDARD
BEGIN:DAYLIGHT
TZOFFSETFROM:+0000
TZOFFSETTO:+0100
TZNAME:BST
DTSTART:20270328T010000
END:DAYLIGHT
BEGIN:STANDARD
TZOFFSETFROM:+0100
TZOFFSETTO:+0000
TZNAME:GMT
DTSTART:20271031T010000
END:STANDARD
END:VTIMEZONE
BEGIN:VEVENT
DTSTART;TZID=Europe/London:20260519T200000
DTEND;TZID=Europe/London:20260519T220000
DTSTAMP:20260421T235324
CREATED:20260421T120254Z
LAST-MODIFIED:20260421T120254Z
UID:13310-1779220800-1779228000@www.exeterbsac.org
SUMMARY:🏊 Pool session
DESCRIPTION:Riverside Leisure Centre. \nPlease book try dives via our contact page. \nOpen to all for training\, practice or a swim\, £2 for members.
URL:https://www.exeterbsac.org/event/%f0%9f%8f%8a-pool-session-5/
LOCATION:Riverside Leisure Centre\, Cowick St.\,\, Exeter\, Devon\, EX4 1AF\, United Kingdom
CATEGORIES:Pool Session
END:VEVENT
END:VCALENDAR